BEGIN:VCALENDAR
VERSION:2.0
PRODID:-//wp-events-plugin.com//7.2.3//EN
TZID:Europe/Rome
X-WR-TIMEZONE:Europe/Rome
BEGIN:VEVENT
UID:51@formeletterarie.unina.it
DTSTART;TZID=Europe/Rome:20260422T153000
DTEND;TZID=Europe/Rome:20260422T170000
DTSTAMP:20260420T174000Z
URL:https://www.formeletterarie.unina.it:443/events/morelli-22426/
SUMMARY:Alfredo Mario Morelli\, Le peripezie di un Gallo in Marziale. Una l
 ettura di Mart. 8\, 75 all'interno del 'castigato' libro VIII
DESCRIPTION:Alfredo Mario Morelli\nUniversità degli Studi di Ferrara\n\nLe
  peripezie di un Gallo in Marziale.\nUna lettura di Mart. 8\, 75 all'inter
 no del 'castigato' libro VIII\n22 aprile 2026\, h. 15:30\nAuletta F del Di
 partimento di Studi Umanistici dell’Università Federico II Napoli\,\nvi
 a Porta di Massa 1 – 80133\, Scala B\, I piano\nLocandina
CATEGORIES:Didattica 2025-2026
LOCATION:Aula F del Dipartimento di Studi Umanistici\, via Porta di Massa\,
  1\, Napoli\, 80133\, 
X-APPLE-STRUCTURED-LOCATION;VALUE=URI;X-ADDRESS=via Porta di Massa\, 1\, Na
 poli\, 80133\, ;X-APPLE-RADIUS=100;X-TITLE=Aula F del Dipartimento di Stud
 i Umanistici:geo:0,0
END:VEVENT
BEGIN:VTIMEZONE
TZID:Europe/Rome
X-LIC-LOCATION:Europe/Rome
BEGIN:DAYLIGHT
DTSTART:20260329T030000
TZOFFSETFROM:+0100
TZOFFSETTO:+0200
TZNAME:CEST
END:DAYLIGHT
END:VTIMEZONE
END:VCALENDAR