BEGIN:VCALENDAR
VERSION:2.0
PRODID:-//wp-events-plugin.com//7.2.3//EN
TZID:Europe/Rome
X-WR-TIMEZONE:Europe/Rome
BEGIN:VEVENT
UID:49@formeletterarie.unina.it
DTSTART;TZID=Europe/Rome:20260420T153000
DTEND;TZID=Europe/Rome:20260420T173000
DTSTAMP:20260418T192345Z
URL:https://www.formeletterarie.unina.it:443/events/raiola-20426/
SUMMARY:Tommaso Raiola\, Lo stato degli studi sulla medicina antica: fonti\
 , strumenti e linee di ricerca
DESCRIPTION:Tommaso Raiola\nUniversità degli Studi di Napoli L'Orientale\n
 \nLo stato degli studi sulla medicina antica:\nfonti\, strumenti e linee d
 i ricerca\n20 aprile 2026\, h. 15:30\nAuletta Seminari del Dipartimento di
  Studi Umanistici dell’Università Federico II Napoli\,\nvia Porta di Ma
 ssa 1 – 80133\, Scala B\, I piano\nLocandina
CATEGORIES:Didattica 2025-2026
LOCATION:Auletta Seminari del Dipartimento di Studi Umanistici\, via Porta 
 di Massa\, 1\, Napoli\, 80133\, Italia
X-APPLE-STRUCTURED-LOCATION;VALUE=URI;X-ADDRESS=via Porta di Massa\, 1\, Na
 poli\, 80133\, Italia;X-APPLE-RADIUS=100;X-TITLE=Auletta Seminari del Dipa
 rtimento di Studi Umanistici:geo:0,0
END:VEVENT
BEGIN:VTIMEZONE
TZID:Europe/Rome
X-LIC-LOCATION:Europe/Rome
BEGIN:DAYLIGHT
DTSTART:20260329T030000
TZOFFSETFROM:+0100
TZOFFSETTO:+0200
TZNAME:CEST
END:DAYLIGHT
END:VTIMEZONE
END:VCALENDAR